﻿BEGIN:VCALENDAR
VERSION:2.0
PRODID:-//wp-events-plugin.com//7.1.7//EN
TZID:Asia/Jerusalem
X-WR-TIMEZONE:Asia/Jerusalem
BEGIN:VEVENT
UID:12@issh.org.il
DTSTART;TZID=Asia/Jerusalem;VALUE=DATE:20260603
DTEND;TZID=Asia/Jerusalem;VALUE=DATE:20260607
DTSTAMP:20241117T072022Z
URL:https://www.issh.org.il/events/%d7%94%d7%9b%d7%a0%d7%a1-%d7%94%d7%a9%d
 7%a0%d7%aa%d7%99-%d7%a9%d7%9c-fessh-%d7%91%d7%91%d7%96%d7%9c-3-6-%d7%91%d7
 %99%d7%95%d7%a0%d7%99-2026/
SUMMARY:הכנס השנתי של FESSH בבזל  | 3-6 ביוני\, 2026
DESCRIPTION:הכנס ה- 31 בבזל 3-6-6-2026\nלכל הפרטים כאן
 : http://fessh2026.com/\n
ATTACH;FMTTYPE=image/jpeg:https://www.issh.org.il/wp-content/uploads/FESSH
 2026-1.jpg
CATEGORIES:אירועים בינלאומיים
END:VEVENT
BEGIN:VTIMEZONE
TZID:Asia/Jerusalem
X-LIC-LOCATION:Asia/Jerusalem
BEGIN:DAYLIGHT
DTSTART:20260327T030000
TZOFFSETFROM:+0200
TZOFFSETTO:+0300
TZNAME:IDT
END:DAYLIGHT
END:VTIMEZONE
END:VCALENDAR